BEGIN:VCALENDAR
VERSION:2.0
PRODID:-//Brie Charente - ECPv6.15.17//NONSGML v1.0//EN
CALSCALE:GREGORIAN
METHOD:PUBLISH
X-ORIGINAL-URL:https://www.brie.fr
X-WR-CALDESC:Évènements pour Brie Charente
REFRESH-INTERVAL;VALUE=DURATION:PT1H
X-Robots-Tag:noindex
X-PUBLISHED-TTL:PT1H
BEGIN:VTIMEZONE
TZID:Europe/Paris
BEGIN:DAYLIGHT
TZOFFSETFROM:+0100
TZOFFSETTO:+0200
TZNAME:CEST
DTSTART:20250330T010000
END:DAYLIGHT
BEGIN:STANDARD
TZOFFSETFROM:+0200
TZOFFSETTO:+0100
TZNAME:CET
DTSTART:20251026T010000
END:STANDARD
BEGIN:DAYLIGHT
TZOFFSETFROM:+0100
TZOFFSETTO:+0200
TZNAME:CEST
DTSTART:20260329T010000
END:DAYLIGHT
BEGIN:STANDARD
TZOFFSETFROM:+0200
TZOFFSETTO:+0100
TZNAME:CET
DTSTART:20261025T010000
END:STANDARD
BEGIN:DAYLIGHT
TZOFFSETFROM:+0100
TZOFFSETTO:+0200
TZNAME:CEST
DTSTART:20270328T010000
END:DAYLIGHT
BEGIN:STANDARD
TZOFFSETFROM:+0200
TZOFFSETTO:+0100
TZNAME:CET
DTSTART:20271031T010000
END:STANDARD
END:VTIMEZONE
BEGIN:VEVENT
DTSTART;TZID=Europe/Paris:20260418T140000
DTEND;TZID=Europe/Paris:20260418T200000
DTSTAMP:20260425T172650
CREATED:20260119T083204Z
LAST-MODIFIED:20260318T154447Z
UID:8286-1776520800-1776542400@www.brie.fr
SUMMARY:CONCOURS DE BELOTE
DESCRIPTION:
URL:https://www.brie.fr/evenement/concours-de-belote/
LOCATION:Salle des fêtes\, 55 Rue de la Mairie\, Brie\, 16590\, France
CATEGORIES:Associations
ATTACH;FMTTYPE=image/jpeg:https://www.brie.fr/wp-content/uploads/2026/01/AFFICHE-TAROT-2026.jpg
END:VEVENT
BEGIN:VEVENT
DTSTART;TZID=Europe/Paris:20260417T160000
DTEND;TZID=Europe/Paris:20260417T200000
DTSTAMP:20260425T172650
CREATED:20260326T162224Z
LAST-MODIFIED:20260326T162352Z
UID:8520-1776441600-1776456000@www.brie.fr
SUMMARY:MARCHÉ MENSUEL
DESCRIPTION:VENDREDI 17 avril de 16 h à 20 h \nVenez savourer les produits au marché de Brie ! \nTous les 3èmes vendredis du mois\, retrouvez 20 producteurs locaux et les commerçants de Brie pour une soirée gourmande et conviviale ! \n Au menu : viandes savoureuses\, légumes frais\, fromages affinés\, desserts gourmands\, plats cuisinés et bien plus encore… \n Profitez sur place ! Des tables et des chaises sont à votre disposition (n’oubliez pas vos couverts). \n Un moment chaleureux à partager en famille ou entre amis ! \nPrésence du rémouleur \n\n Rendez-vous au marché de Brie !
URL:https://www.brie.fr/evenement/marche-mensuel/
LOCATION:Salle des fêtes\, 55 Rue de la Mairie\, Brie\, 16590\, France
CATEGORIES:Marché
ATTACH;FMTTYPE=image/jpeg:https://www.brie.fr/wp-content/uploads/2026/03/mm-AVRIL-2026.jpg
END:VEVENT
BEGIN:VEVENT
DTSTART;TZID=Europe/Paris:20260412T120000
DTEND;TZID=Europe/Paris:20260412T190000
DTSTAMP:20260425T172650
CREATED:20260219T105305Z
LAST-MODIFIED:20260219T105355Z
UID:8408-1775995200-1776020400@www.brie.fr
SUMMARY:REPAS DE CHASSE
DESCRIPTION:Tarifs : Adulte 22 € (sans les vins) \nEnfant jusqu’à 12 ans : 10 € \nInscriptions avant le 2 avril au 06 23 21 88 92 \n 
URL:https://www.brie.fr/evenement/repas-de-chasse/
LOCATION:Salle des fêtes\, 55 Rue de la Mairie\, Brie\, 16590\, France
CATEGORIES:Associations
ATTACH;FMTTYPE=image/jpeg:https://www.brie.fr/wp-content/uploads/2026/02/la-bienvenue.jpg
END:VEVENT
BEGIN:VEVENT
DTSTART;VALUE=DATE:20260329
DTEND;VALUE=DATE:20260330
DTSTAMP:20260425T172650
CREATED:20260220T081110Z
LAST-MODIFIED:20260220T081110Z
UID:8429-1774742400-1774828799@www.brie.fr
SUMMARY:MARCHE SOLIDAIRE
DESCRIPTION: organisée par des étudiants de l’IUT d’Angoulême dans le cadre d’un projet de collecte de dons au profit de l’association Fleur d’Isa. \nLes départs se feront entre 8 h et 10 h depuis la salle des fêtes de Brie\, située 55 rue de la Mairie. \nDeux parcours seront proposés\, 5 km et 10 km\, accessibles à tous\, sans condition d’âge ou de niveau\, et les inscriptions se feront directement sur place le jour même. \nLa participation est fixée à 5 €. \nLes dons supplémentaires sont les bienvenus : chaque geste compte pour soutenir l’association\, et le nombre de participants est limité à 300 personnes. \nÀ l’issue de la marche\, les participants pourront prolonger ce moment de solidarité autour d’un \ntemps convivial et festif\, avec un pot de l’amitié et un buffet\, suivi d’un concert du groupe de pop rock “Bleu Mécanique”. \n  \nCette matinée se veut avant tout un moment de partage et de solidarité\, réunissant les habitants autour d’une cause commune : soutenir la lutte contre le cancer avec l’association Fleur d’Isa. \n 
URL:https://www.brie.fr/evenement/marche-solidaire/
LOCATION:Parking salle des fêtes de Brie\, 55 rue de la mairie\, Brie\, 16590\, France
CATEGORIES:Associations
ATTACH;FMTTYPE=image/png:https://www.brie.fr/wp-content/uploads/2026/02/cropped-Logo-Fleurdisa-reduit-fond-transparent-1-370x364-1.png
END:VEVENT
BEGIN:VEVENT
DTSTART;TZID=Europe/Paris:20260328T143000
DTEND;TZID=Europe/Paris:20260328T160000
DTSTAMP:20260425T172650
CREATED:20260219T110757Z
LAST-MODIFIED:20260219T110757Z
UID:8419-1774708200-1774713600@www.brie.fr
SUMMARY:CHASSE AUX ŒUFS
DESCRIPTION:3 € de participation \nInscription obligatoire au 06 74 84 78 34 \n 
URL:https://www.brie.fr/evenement/chasse-aux-oeufs/
LOCATION:Vallée de Brie\, BRIE\, 16590\, France
CATEGORIES:Associations
ATTACH;FMTTYPE=image/jpeg:https://www.brie.fr/wp-content/uploads/2026/02/CHASSEAUXOEUFSAPE2026.jpg
END:VEVENT
BEGIN:VEVENT
DTSTART;TZID=Europe/Paris:20260328T103000
DTEND;TZID=Europe/Paris:20260328T111500
DTSTAMP:20260425T172650
CREATED:20241217T083808Z
LAST-MODIFIED:20260219T110330Z
UID:5989-1774693800-1774696500@www.brie.fr
SUMMARY:Bibliothèque Racontines
DESCRIPTION:Une lecture suivie d’un atelier créatif conçu pour les enfants de 4 à 7 ans. gratuit\, inscription indispensable \n  \n  \n  \n  \n  \n  \n  \n  \n  \n 
URL:https://www.brie.fr/evenement/racontines-2/
LOCATION:Bibliothèque
CATEGORIES:Bibliothèque
ATTACH;FMTTYPE=image/jpeg:https://www.brie.fr/wp-content/uploads/2024/12/DATES-RACONTINES-25-26-scaled-1.jpg
END:VEVENT
BEGIN:VEVENT
DTSTART;TZID=Europe/Paris:20260327T190000
DTEND;TZID=Europe/Paris:20260327T233000
DTSTAMP:20260425T172650
CREATED:20260219T110507Z
LAST-MODIFIED:20260219T110507Z
UID:8417-1774638000-1774654200@www.brie.fr
SUMMARY:BRASERO PARTY
DESCRIPTION:
URL:https://www.brie.fr/evenement/brasero-party/
LOCATION:Salle des fêtes\, 55 Rue de la Mairie\, Brie\, 16590\, France
CATEGORIES:Associations
END:VEVENT
BEGIN:VEVENT
DTSTART;VALUE=DATE:20260302
DTEND;VALUE=DATE:20260402
DTSTAMP:20260425T172650
CREATED:20240918T125915Z
LAST-MODIFIED:20260219T110148Z
UID:5554-1772409600-1775087999@www.brie.fr
SUMMARY:Bibliothèque Nuit de la lecture
DESCRIPTION:Itinérance photographique en Charente. À travers l’œil du photographe\, laissez-vous guider par ces sentinelles de pierre qui ponctuent nos paysages et racontent l’histoire de nos villages.\nPar BLC club photo. Aux horaires d’ouverture – accès libre \n  \n  \n  \n  \n 
URL:https://www.brie.fr/evenement/vote-des-groupes-des-lecteurs-croc-polar-et-litterature-europeennes-cognac/
LOCATION:Bibliothèque
CATEGORIES:Bibliothèque
ATTACH;FMTTYPE=image/jpeg:https://www.brie.fr/wp-content/uploads/2024/09/expo.jpg
END:VEVENT
END:VCALENDAR